BEGIN:VCALENDAR
VERSION:2.0
PRODID:-//Grillrestaurant am Bleicherberg - ECPv6.7.0//NONSGML v1.0//EN
CALSCALE:GREGORIAN
METHOD:PUBLISH
X-WR-CALNAME:Grillrestaurant am Bleicherberg
X-ORIGINAL-URL:https://www.grillrestaurant-am-bleicherberg.de
X-WR-CALDESC:Veranstaltungen für Grillrestaurant am Bleicherberg
REFRESH-INTERVAL;VALUE=DURATION:PT1H
X-Robots-Tag:noindex
X-PUBLISHED-TTL:PT1H
BEGIN:VTIMEZONE
TZID:Europe/Berlin
BEGIN:DAYLIGHT
TZOFFSETFROM:+0100
TZOFFSETTO:+0200
TZNAME:CEST
DTSTART:20240331T010000
END:DAYLIGHT
BEGIN:STANDARD
TZOFFSETFROM:+0200
TZOFFSETTO:+0100
TZNAME:CET
DTSTART:20241027T010000
END:STANDARD
END:VTIMEZONE
BEGIN:VEVENT
DTSTART;VALUE=DATE:20240614
DTEND;VALUE=DATE:20240615
DTSTAMP:20260422T180614
CREATED:20240614T081802Z
LAST-MODIFIED:20240614T081802Z
UID:4322-1718323200-1718409599@www.grillrestaurant-am-bleicherberg.de
SUMMARY:Grützwurst mit Sauerkraut und Püree
DESCRIPTION:
URL:https://www.grillrestaurant-am-bleicherberg.de/event/gruetzwurst-mit-sauerkraut-und-pueree-2/
END:VEVENT
BEGIN:VEVENT
DTSTART;VALUE=DATE:20240617
DTEND;VALUE=DATE:20240618
DTSTAMP:20260422T180614
CREATED:20240614T082034Z
LAST-MODIFIED:20240614T082034Z
UID:4325-1718582400-1718668799@www.grillrestaurant-am-bleicherberg.de
SUMMARY:Nudeln mit Tomatenhackfleischsauce
DESCRIPTION:
URL:https://www.grillrestaurant-am-bleicherberg.de/event/nudeln-mit-tomatenhackfleischsauce/
END:VEVENT
BEGIN:VEVENT
DTSTART;TZID=Europe/Berlin:20240618T080000
DTEND;TZID=Europe/Berlin:20240618T170000
DTSTAMP:20260422T180614
CREATED:20240614T082210Z
LAST-MODIFIED:20240614T082210Z
UID:4327-1718697600-1718730000@www.grillrestaurant-am-bleicherberg.de
SUMMARY:DDR-Jägerschnitzel mit Mischgemüse & Salzkartoffeln
DESCRIPTION:
URL:https://www.grillrestaurant-am-bleicherberg.de/event/ddr-jaegerschnitzel-mit-mischgemuese-salzkartoffeln-3/
END:VEVENT
BEGIN:VEVENT
DTSTART;VALUE=DATE:20240619
DTEND;VALUE=DATE:20240620
DTSTAMP:20260422T180614
CREATED:20240614T082240Z
LAST-MODIFIED:20240614T082240Z
UID:4329-1718755200-1718841599@www.grillrestaurant-am-bleicherberg.de
SUMMARY:Hähnchenkeulen mit Rotkohl und Salzkartoffeln
DESCRIPTION:
URL:https://www.grillrestaurant-am-bleicherberg.de/event/haehnchenkeulen-mit-rotkohl-und-salzkartoffeln-4/
END:VEVENT
BEGIN:VEVENT
DTSTART;VALUE=DATE:20240620
DTEND;VALUE=DATE:20240621
DTSTAMP:20260422T180614
CREATED:20240614T082913Z
LAST-MODIFIED:20240614T083025Z
UID:4331-1718841600-1718927999@www.grillrestaurant-am-bleicherberg.de
SUMMARY:Schmorkohl mit Salzkartoffeln
DESCRIPTION:
URL:https://www.grillrestaurant-am-bleicherberg.de/event/schmorkohl-mit-salzkartoffeln-4/
END:VEVENT
BEGIN:VEVENT
DTSTART;VALUE=DATE:20240621
DTEND;VALUE=DATE:20240622
DTSTAMP:20260422T180614
CREATED:20240614T082950Z
LAST-MODIFIED:20240614T082950Z
UID:4333-1718928000-1719014399@www.grillrestaurant-am-bleicherberg.de
SUMMARY:Senfeier mit Salzkartoffeln
DESCRIPTION:
URL:https://www.grillrestaurant-am-bleicherberg.de/event/senfeier-mit-salzkartoffeln-2/
END:VEVENT
BEGIN:VEVENT
DTSTART;VALUE=DATE:20240624
DTEND;VALUE=DATE:20240625
DTSTAMP:20260422T180614
CREATED:20240614T083232Z
LAST-MODIFIED:20240614T083232Z
UID:4335-1719187200-1719273599@www.grillrestaurant-am-bleicherberg.de
SUMMARY:Bratwurst mit Sauerkraut und Püree
DESCRIPTION:
URL:https://www.grillrestaurant-am-bleicherberg.de/event/bratwurst-mit-sauerkraut-und-pueree-5/
END:VEVENT
BEGIN:VEVENT
DTSTART;VALUE=DATE:20240625
DTEND;VALUE=DATE:20240626
DTSTAMP:20260422T180614
CREATED:20240614T083300Z
LAST-MODIFIED:20240614T083300Z
UID:4337-1719273600-1719359999@www.grillrestaurant-am-bleicherberg.de
SUMMARY:Gefüllter Hackbraten mit Butterbohnen und Salzkartoffeln
DESCRIPTION:
URL:https://www.grillrestaurant-am-bleicherberg.de/event/gefuellter-hackbraten-mit-butterbohnen-und-salzkartoffeln-3/
END:VEVENT
BEGIN:VEVENT
DTSTART;VALUE=DATE:20240626
DTEND;VALUE=DATE:20240627
DTSTAMP:20260422T180614
CREATED:20240614T083326Z
LAST-MODIFIED:20240614T083326Z
UID:4339-1719360000-1719446399@www.grillrestaurant-am-bleicherberg.de
SUMMARY:Gulasch mit Rotkohl und Salzkartoffeln
DESCRIPTION:
URL:https://www.grillrestaurant-am-bleicherberg.de/event/gulasch-mit-rotkohl-und-salzkartoffeln-4/
END:VEVENT
BEGIN:VEVENT
DTSTART;VALUE=DATE:20240627
DTEND;VALUE=DATE:20240628
DTSTAMP:20260422T180614
CREATED:20240614T083353Z
LAST-MODIFIED:20240614T083353Z
UID:4341-1719446400-1719532799@www.grillrestaurant-am-bleicherberg.de
SUMMARY:Schnitzel mit Blumenkohl und Salzkartoffeln
DESCRIPTION:
URL:https://www.grillrestaurant-am-bleicherberg.de/event/schnitzel-mit-blumenkohl-und-salzkartoffeln-2/
END:VEVENT
BEGIN:VEVENT
DTSTART;VALUE=DATE:20240628
DTEND;VALUE=DATE:20240629
DTSTAMP:20260422T180614
CREATED:20240614T083425Z
LAST-MODIFIED:20240614T083425Z
UID:4343-1719532800-1719619199@www.grillrestaurant-am-bleicherberg.de
SUMMARY:Gemüseeintopf mit Bockwurst
DESCRIPTION:
URL:https://www.grillrestaurant-am-bleicherberg.de/event/gemueseeintopf-mit-bockwurst-3/
END:VEVENT
END:VCALENDAR