BEGIN:VCALENDAR
VERSION:2.0
PRODID:-//Grillrestaurant am Bleicherberg - ECPv6.7.0//NONSGML v1.0//EN
CALSCALE:GREGORIAN
METHOD:PUBLISH
X-ORIGINAL-URL:https://www.grillrestaurant-am-bleicherberg.de
X-WR-CALDESC:Veranstaltungen für Grillrestaurant am Bleicherberg
REFRESH-INTERVAL;VALUE=DURATION:PT1H
X-Robots-Tag:noindex
X-PUBLISHED-TTL:PT1H
BEGIN:VTIMEZONE
TZID:Europe/Berlin
BEGIN:DAYLIGHT
TZOFFSETFROM:+0100
TZOFFSETTO:+0200
TZNAME:CEST
DTSTART:20240331T010000
END:DAYLIGHT
BEGIN:STANDARD
TZOFFSETFROM:+0200
TZOFFSETTO:+0100
TZNAME:CET
DTSTART:20241027T010000
END:STANDARD
END:VTIMEZONE
BEGIN:VEVENT
DTSTART;VALUE=DATE:20240408
DTEND;VALUE=DATE:20240409
DTSTAMP:20260422T214144
CREATED:20240408T115822Z
LAST-MODIFIED:20240408T115822Z
UID:4273-1712534400-1712620799@www.grillrestaurant-am-bleicherberg.de
SUMMARY:Seelachsfilet in Kräuterrahmsauce und Salzkartoffeln
DESCRIPTION:
URL:https://www.grillrestaurant-am-bleicherberg.de/event/seelachsfilet-in-kraeuterrahmsauce-und-salzkartoffeln-2/
END:VEVENT
BEGIN:VEVENT
DTSTART;VALUE=DATE:20240409
DTEND;VALUE=DATE:20240410
DTSTAMP:20260422T214144
CREATED:20240408T120315Z
LAST-MODIFIED:20240408T130844Z
UID:4275-1712620800-1712707199@www.grillrestaurant-am-bleicherberg.de
SUMMARY:Bratklops mit Butterbohnen und Salzkartoffeln
DESCRIPTION:
URL:https://www.grillrestaurant-am-bleicherberg.de/event/bratklops-mit-butterbohnen-und-salzkartoffeln-2/
END:VEVENT
BEGIN:VEVENT
DTSTART;VALUE=DATE:20240410
DTEND;VALUE=DATE:20240411
DTSTAMP:20260422T214144
CREATED:20240408T130920Z
LAST-MODIFIED:20240408T130920Z
UID:4277-1712707200-1712793599@www.grillrestaurant-am-bleicherberg.de
SUMMARY:Kasselerbraten mit Sauerkraut und Salzkartoffeln
DESCRIPTION:
URL:https://www.grillrestaurant-am-bleicherberg.de/event/kasselerbraten-mit-sauerkraut-und-salzkartoffeln-2/
END:VEVENT
BEGIN:VEVENT
DTSTART;VALUE=DATE:20240411
DTEND;VALUE=DATE:20240412
DTSTAMP:20260422T214144
CREATED:20240408T130935Z
LAST-MODIFIED:20240408T130935Z
UID:4279-1712793600-1712879999@www.grillrestaurant-am-bleicherberg.de
SUMMARY:Hähnchenkeulen mit Rotkohl und Salzkartoffeln
DESCRIPTION:
URL:https://www.grillrestaurant-am-bleicherberg.de/event/haehnchenkeulen-mit-rotkohl-und-salzkartoffeln-3/
END:VEVENT
BEGIN:VEVENT
DTSTART;VALUE=DATE:20240412
DTEND;VALUE=DATE:20240413
DTSTAMP:20260422T214144
CREATED:20240408T130950Z
LAST-MODIFIED:20240408T130950Z
UID:4281-1712880000-1712966399@www.grillrestaurant-am-bleicherberg.de
SUMMARY:Erbseneintopf mit Bockwurst
DESCRIPTION:
URL:https://www.grillrestaurant-am-bleicherberg.de/event/erbseneintopf-mit-bockwurst-2/
END:VEVENT
BEGIN:VEVENT
DTSTART;VALUE=DATE:20240415
DTEND;VALUE=DATE:20240416
DTSTAMP:20260422T214144
CREATED:20240408T131007Z
LAST-MODIFIED:20240408T131007Z
UID:4283-1713139200-1713225599@www.grillrestaurant-am-bleicherberg.de
SUMMARY:Nudeln in Tomatenhackfleischsauce
DESCRIPTION:
URL:https://www.grillrestaurant-am-bleicherberg.de/event/nudeln-in-tomatenhackfleischsauce-2/
END:VEVENT
BEGIN:VEVENT
DTSTART;VALUE=DATE:20240416
DTEND;VALUE=DATE:20240417
DTSTAMP:20260422T214144
CREATED:20240408T131023Z
LAST-MODIFIED:20240408T131023Z
UID:4285-1713225600-1713311999@www.grillrestaurant-am-bleicherberg.de
SUMMARY:DDR-Jägerschnitzel mit Mischgemüse & Salzkartoffeln
DESCRIPTION:
URL:https://www.grillrestaurant-am-bleicherberg.de/event/ddr-jaegerschnitzel-mit-mischgemuese-salzkartoffeln-2/
END:VEVENT
BEGIN:VEVENT
DTSTART;VALUE=DATE:20240417
DTEND;VALUE=DATE:20240418
DTSTAMP:20260422T214144
CREATED:20240408T131036Z
LAST-MODIFIED:20240408T131036Z
UID:4287-1713312000-1713398399@www.grillrestaurant-am-bleicherberg.de
SUMMARY:Gulasch mit Rotkohl und Salzkartoffeln
DESCRIPTION:
URL:https://www.grillrestaurant-am-bleicherberg.de/event/gulasch-mit-rotkohl-und-salzkartoffeln-3/
END:VEVENT
BEGIN:VEVENT
DTSTART;VALUE=DATE:20240418
DTEND;VALUE=DATE:20240419
DTSTAMP:20260422T214144
CREATED:20240408T131050Z
LAST-MODIFIED:20240408T131050Z
UID:4289-1713398400-1713484799@www.grillrestaurant-am-bleicherberg.de
SUMMARY:Kohlroulade mit Salzkartoffeln
DESCRIPTION:
URL:https://www.grillrestaurant-am-bleicherberg.de/event/kohlroulade-mit-salzkartoffeln-3/
END:VEVENT
BEGIN:VEVENT
DTSTART;VALUE=DATE:20240419
DTEND;VALUE=DATE:20240420
DTSTAMP:20260422T214144
CREATED:20240408T131104Z
LAST-MODIFIED:20240408T131104Z
UID:4291-1713484800-1713571199@www.grillrestaurant-am-bleicherberg.de
SUMMARY:Gemüseeintopf mit Bockwurst
DESCRIPTION:
URL:https://www.grillrestaurant-am-bleicherberg.de/event/gemueseeintopf-mit-bockwurst-2/
END:VEVENT
BEGIN:VEVENT
DTSTART;VALUE=DATE:20240422
DTEND;VALUE=DATE:20240423
DTSTAMP:20260422T214144
CREATED:20240408T131118Z
LAST-MODIFIED:20240408T131118Z
UID:4294-1713744000-1713830399@www.grillrestaurant-am-bleicherberg.de
SUMMARY:Bratwurst mit Sauerkraut und Püree
DESCRIPTION:
URL:https://www.grillrestaurant-am-bleicherberg.de/event/bratwurst-mit-sauerkraut-und-pueree-3/
END:VEVENT
BEGIN:VEVENT
DTSTART;VALUE=DATE:20240423
DTEND;VALUE=DATE:20240424
DTSTAMP:20260422T214144
CREATED:20240408T131138Z
LAST-MODIFIED:20240408T131138Z
UID:4296-1713830400-1713916799@www.grillrestaurant-am-bleicherberg.de
SUMMARY:Gefüllter Hackbraten mit Butterbohnen und Salzkartoffeln
DESCRIPTION:
URL:https://www.grillrestaurant-am-bleicherberg.de/event/gefuellter-hackbraten-mit-butterbohnen-und-salzkartoffeln-2/
END:VEVENT
BEGIN:VEVENT
DTSTART;VALUE=DATE:20240424
DTEND;VALUE=DATE:20240425
DTSTAMP:20260422T214144
CREATED:20240408T131154Z
LAST-MODIFIED:20240408T131154Z
UID:4298-1713916800-1714003199@www.grillrestaurant-am-bleicherberg.de
SUMMARY:Hähnchenschnitzel mit Kohlrabigemüse und Salzkartoffeln
DESCRIPTION:
URL:https://www.grillrestaurant-am-bleicherberg.de/event/haehnchenschnitzel-mit-kohlrabigemuese-und-salzkartoffeln/
END:VEVENT
BEGIN:VEVENT
DTSTART;VALUE=DATE:20240425
DTEND;VALUE=DATE:20240426
DTSTAMP:20260422T214144
CREATED:20240408T131209Z
LAST-MODIFIED:20240408T131209Z
UID:4300-1714003200-1714089599@www.grillrestaurant-am-bleicherberg.de
SUMMARY:Schnitzel mit Blumenkohl und Salzkartoffeln
DESCRIPTION:
URL:https://www.grillrestaurant-am-bleicherberg.de/event/schnitzel-mit-blumenkohl-und-salzkartoffeln/
END:VEVENT
BEGIN:VEVENT
DTSTART;VALUE=DATE:20240426
DTEND;VALUE=DATE:20240427
DTSTAMP:20260422T214144
CREATED:20240408T131222Z
LAST-MODIFIED:20240408T131222Z
UID:4302-1714089600-1714175999@www.grillrestaurant-am-bleicherberg.de
SUMMARY:Grützwurst mit Sauerkraut und Püree
DESCRIPTION:
URL:https://www.grillrestaurant-am-bleicherberg.de/event/gruetzwurst-mit-sauerkraut-und-pueree/
END:VEVENT
BEGIN:VEVENT
DTSTART;VALUE=DATE:20240429
DTEND;VALUE=DATE:20240430
DTSTAMP:20260422T214144
CREATED:20240408T131236Z
LAST-MODIFIED:20240408T131236Z
UID:4304-1714348800-1714435199@www.grillrestaurant-am-bleicherberg.de
SUMMARY:Bratwurst mit Sauerkraut und Püree
DESCRIPTION:
URL:https://www.grillrestaurant-am-bleicherberg.de/event/bratwurst-mit-sauerkraut-und-pueree-4/
END:VEVENT
BEGIN:VEVENT
DTSTART;VALUE=DATE:20240430
DTEND;VALUE=DATE:20240501
DTSTAMP:20260422T214144
CREATED:20240408T131248Z
LAST-MODIFIED:20240408T131248Z
UID:4307-1714435200-1714521599@www.grillrestaurant-am-bleicherberg.de
SUMMARY:Schmorkohl mit Salzkartoffeln
DESCRIPTION:
URL:https://www.grillrestaurant-am-bleicherberg.de/event/schmorkohl-mit-salzkartoffeln-3/
END:VEVENT
END:VCALENDAR