BEGIN:VCALENDAR
VERSION:2.0
PRODID:-//Grillrestaurant am Bleicherberg - ECPv6.7.0//NONSGML v1.0//EN
CALSCALE:GREGORIAN
METHOD:PUBLISH
X-WR-CALNAME:Grillrestaurant am Bleicherberg
X-ORIGINAL-URL:https://www.grillrestaurant-am-bleicherberg.de
X-WR-CALDESC:Veranstaltungen für Grillrestaurant am Bleicherberg
REFRESH-INTERVAL;VALUE=DURATION:PT1H
X-Robots-Tag:noindex
X-PUBLISHED-TTL:PT1H
BEGIN:VTIMEZONE
TZID:Europe/Berlin
BEGIN:DAYLIGHT
TZOFFSETFROM:+0100
TZOFFSETTO:+0200
TZNAME:CEST
DTSTART:20240331T010000
END:DAYLIGHT
BEGIN:STANDARD
TZOFFSETFROM:+0200
TZOFFSETTO:+0100
TZNAME:CET
DTSTART:20241027T010000
END:STANDARD
END:VTIMEZONE
BEGIN:VEVENT
DTSTART;VALUE=DATE:20240201
DTEND;VALUE=DATE:20240202
DTSTAMP:20260423T011740
CREATED:20240201T094217Z
LAST-MODIFIED:20240201T094217Z
UID:4232-1706745600-1706831999@www.grillrestaurant-am-bleicherberg.de
SUMMARY:Kohlroulade mit Salzkartoffeln
DESCRIPTION:
URL:https://www.grillrestaurant-am-bleicherberg.de/event/kohlroulade-mit-salzkartoffeln-2/
END:VEVENT
BEGIN:VEVENT
DTSTART;VALUE=DATE:20240202
DTEND;VALUE=DATE:20240203
DTSTAMP:20260423T011740
CREATED:20240201T101911Z
LAST-MODIFIED:20240201T101911Z
UID:4234-1706832000-1706918399@www.grillrestaurant-am-bleicherberg.de
SUMMARY:Erbseneintopf mit Bockwurst
DESCRIPTION:
URL:https://www.grillrestaurant-am-bleicherberg.de/event/erbseneintopf-mit-bockwurst/
END:VEVENT
BEGIN:VEVENT
DTSTART;VALUE=DATE:20240214
DTEND;VALUE=DATE:20240215
DTSTAMP:20260423T011740
CREATED:20240214T091447Z
LAST-MODIFIED:20240214T091447Z
UID:4251-1707868800-1707955199@www.grillrestaurant-am-bleicherberg.de
SUMMARY:Grünkohl mit Kohlwurst und Bratkartoffeln
DESCRIPTION:
URL:https://www.grillrestaurant-am-bleicherberg.de/event/gruenkohl-mit-kohlwurst-und-bratkartoffeln/
END:VEVENT
BEGIN:VEVENT
DTSTART;VALUE=DATE:20240215
DTEND;VALUE=DATE:20240216
DTSTAMP:20260423T011740
CREATED:20240215T080951Z
LAST-MODIFIED:20240215T080951Z
UID:4253-1707955200-1708041599@www.grillrestaurant-am-bleicherberg.de
SUMMARY:Schnitzel mit Blumenkohl & Salzkartoffeln
DESCRIPTION:
URL:https://www.grillrestaurant-am-bleicherberg.de/event/schnitzel-mit-blumenkohl-salzkartoffeln/
END:VEVENT
BEGIN:VEVENT
DTSTART;VALUE=DATE:20240220
DTEND;VALUE=DATE:20240221
DTSTAMP:20260423T011740
CREATED:20240220T104154Z
LAST-MODIFIED:20240220T104154Z
UID:4255-1708387200-1708473599@www.grillrestaurant-am-bleicherberg.de
SUMMARY:DDR-Jägerschnitzel mit Mischgemüse & SK
DESCRIPTION:
URL:https://www.grillrestaurant-am-bleicherberg.de/event/ddr-jaegerschnitzel-mit-mischgemuese-sk/
END:VEVENT
BEGIN:VEVENT
DTSTART;VALUE=DATE:20240221
DTEND;VALUE=DATE:20240222
DTSTAMP:20260423T011740
CREATED:20240220T104243Z
LAST-MODIFIED:20240220T104243Z
UID:4257-1708473600-1708559999@www.grillrestaurant-am-bleicherberg.de
SUMMARY:Schmorkohl mit Salzkartoffeln
DESCRIPTION:
URL:https://www.grillrestaurant-am-bleicherberg.de/event/schmorkohl-mit-salzkartoffeln-2/
END:VEVENT
BEGIN:VEVENT
DTSTART;VALUE=DATE:20240222
DTEND;VALUE=DATE:20240223
DTSTAMP:20260423T011740
CREATED:20240220T104323Z
LAST-MODIFIED:20240220T104323Z
UID:4259-1708560000-1708646399@www.grillrestaurant-am-bleicherberg.de
SUMMARY:Hähnchenkeulen mit Rotkohl und Salzkartoffeln
DESCRIPTION:
URL:https://www.grillrestaurant-am-bleicherberg.de/event/haehnchenkeulen-mit-rotkohl-und-salzkartoffeln-2/
END:VEVENT
BEGIN:VEVENT
DTSTART;VALUE=DATE:20240223
DTEND;VALUE=DATE:20240224
DTSTAMP:20260423T011740
CREATED:20240220T104400Z
LAST-MODIFIED:20240220T104400Z
UID:4261-1708646400-1708732799@www.grillrestaurant-am-bleicherberg.de
SUMMARY:Bratwurst mit Sauerkraut und Püree
DESCRIPTION:
URL:https://www.grillrestaurant-am-bleicherberg.de/event/bratwurst-mit-sauerkraut-und-pueree-2/
END:VEVENT
BEGIN:VEVENT
DTSTART;TZID=Europe/Berlin:20240226T080000
DTEND;TZID=Europe/Berlin:20240226T170000
DTSTAMP:20260423T011740
CREATED:20240220T104446Z
LAST-MODIFIED:20240220T104446Z
UID:4263-1708934400-1708966800@www.grillrestaurant-am-bleicherberg.de
SUMMARY:Wurstgulasch mit Nudeln oder Salzkartoffeln
DESCRIPTION:
URL:https://www.grillrestaurant-am-bleicherberg.de/event/wurstgulasch-mit-nudeln-oder-salzkartoffeln/
END:VEVENT
BEGIN:VEVENT
DTSTART;VALUE=DATE:20240227
DTEND;VALUE=DATE:20240228
DTSTAMP:20260423T011740
CREATED:20240220T104538Z
LAST-MODIFIED:20240220T104538Z
UID:4266-1708992000-1709078399@www.grillrestaurant-am-bleicherberg.de
SUMMARY:gefüllter Hackbraten mit Butterbohnen und Salzkartoffeln
DESCRIPTION:
URL:https://www.grillrestaurant-am-bleicherberg.de/event/gefuellter-hackbraten-mit-butterbohnen-und-salzkartoffeln/
END:VEVENT
BEGIN:VEVENT
DTSTART;VALUE=DATE:20240228
DTEND;VALUE=DATE:20240229
DTSTAMP:20260423T011740
CREATED:20240220T104707Z
LAST-MODIFIED:20240220T104707Z
UID:4268-1709078400-1709164799@www.grillrestaurant-am-bleicherberg.de
SUMMARY:Schweineschnitzel mit Mischgemüse und Salzkartoffeln
DESCRIPTION:
URL:https://www.grillrestaurant-am-bleicherberg.de/event/schweineschnitzel-mit-mischgemuese-und-salzkartoffeln/
END:VEVENT
BEGIN:VEVENT
DTSTART;VALUE=DATE:20240229
DTEND;VALUE=DATE:20240301
DTSTAMP:20260423T011740
CREATED:20240220T104743Z
LAST-MODIFIED:20240220T104743Z
UID:4270-1709164800-1709251199@www.grillrestaurant-am-bleicherberg.de
SUMMARY:Gulasch mit Rotkohl und Salzkartoffeln
DESCRIPTION:
URL:https://www.grillrestaurant-am-bleicherberg.de/event/gulasch-mit-rotkohl-und-salzkartoffeln-2/
END:VEVENT
END:VCALENDAR