BEGIN:VCALENDAR
VERSION:2.0
PRODID:-//Grillrestaurant am Bleicherberg - ECPv6.7.0//NONSGML v1.0//EN
CALSCALE:GREGORIAN
METHOD:PUBLISH
X-ORIGINAL-URL:https://www.grillrestaurant-am-bleicherberg.de
X-WR-CALDESC:Veranstaltungen für Grillrestaurant am Bleicherberg
REFRESH-INTERVAL;VALUE=DURATION:PT1H
X-Robots-Tag:noindex
X-PUBLISHED-TTL:PT1H
BEGIN:VTIMEZONE
TZID:Europe/Berlin
BEGIN:DAYLIGHT
TZOFFSETFROM:+0100
TZOFFSETTO:+0200
TZNAME:CEST
DTSTART:20240331T010000
END:DAYLIGHT
BEGIN:STANDARD
TZOFFSETFROM:+0200
TZOFFSETTO:+0100
TZNAME:CET
DTSTART:20241027T010000
END:STANDARD
END:VTIMEZONE
BEGIN:VEVENT
DTSTART;VALUE=DATE:20240115
DTEND;VALUE=DATE:20240116
DTSTAMP:20260423T031748
CREATED:20240115T201224Z
LAST-MODIFIED:20240115T202120Z
UID:4200-1705276800-1705363199@www.grillrestaurant-am-bleicherberg.de
SUMMARY:Seelachsfilet in Kräuterrahmsauce und Salzkartoffeln
DESCRIPTION:
URL:https://www.grillrestaurant-am-bleicherberg.de/event/seelachsfilet-in-kraeuterrahmsauce-und-salzkartoffeln/
END:VEVENT
BEGIN:VEVENT
DTSTART;VALUE=DATE:20240116
DTEND;VALUE=DATE:20240117
DTSTAMP:20260423T031748
CREATED:20240115T200928Z
LAST-MODIFIED:20240115T200928Z
UID:4192-1705363200-1705449599@www.grillrestaurant-am-bleicherberg.de
SUMMARY:Bratklops mit Butterbohnen und Salzkartoffeln
DESCRIPTION:
URL:https://www.grillrestaurant-am-bleicherberg.de/event/bratklops-mit-butterbohnen-und-salzkartoffeln/
END:VEVENT
BEGIN:VEVENT
DTSTART;VALUE=DATE:20240117
DTEND;VALUE=DATE:20240118
DTSTAMP:20260423T031748
CREATED:20240115T200952Z
LAST-MODIFIED:20240115T200952Z
UID:4194-1705449600-1705535999@www.grillrestaurant-am-bleicherberg.de
SUMMARY:Kasselerbraten mit Sauerkraut und Salzkartoffeln
DESCRIPTION:
URL:https://www.grillrestaurant-am-bleicherberg.de/event/kasselerbraten-mit-sauerkraut-und-salzkartoffeln/
END:VEVENT
BEGIN:VEVENT
DTSTART;VALUE=DATE:20240118
DTEND;VALUE=DATE:20240119
DTSTAMP:20260423T031748
CREATED:20240115T201030Z
LAST-MODIFIED:20240115T201030Z
UID:4196-1705536000-1705622399@www.grillrestaurant-am-bleicherberg.de
SUMMARY:Gulasch mit Rotkohl und Salzkartoffeln
DESCRIPTION:
URL:https://www.grillrestaurant-am-bleicherberg.de/event/gulasch-mit-rotkohl-und-salzkartoffeln/
END:VEVENT
BEGIN:VEVENT
DTSTART;VALUE=DATE:20240119
DTEND;VALUE=DATE:20240120
DTSTAMP:20260423T031748
CREATED:20240115T201059Z
LAST-MODIFIED:20240115T201059Z
UID:4198-1705622400-1705708799@www.grillrestaurant-am-bleicherberg.de
SUMMARY:Senfeier mit Salzkartoffeln
DESCRIPTION:
URL:https://www.grillrestaurant-am-bleicherberg.de/event/senfeier-mit-salzkartoffeln/
END:VEVENT
BEGIN:VEVENT
DTSTART;VALUE=DATE:20240122
DTEND;VALUE=DATE:20240123
DTSTAMP:20260423T031748
CREATED:20240115T210938Z
LAST-MODIFIED:20240115T210938Z
UID:4213-1705881600-1705967999@www.grillrestaurant-am-bleicherberg.de
SUMMARY:Nudeln in Tomatenhackfleischsauce
DESCRIPTION:
URL:https://www.grillrestaurant-am-bleicherberg.de/event/nudeln-in-tomatenhackfleischsauce/
END:VEVENT
BEGIN:VEVENT
DTSTART;VALUE=DATE:20240123
DTEND;VALUE=DATE:20240124
DTSTAMP:20260423T031748
CREATED:20240115T211000Z
LAST-MODIFIED:20240115T211000Z
UID:4215-1705968000-1706054399@www.grillrestaurant-am-bleicherberg.de
SUMMARY:DDR-Jägerschnitzel mit Mischgemüse & Salzkartoffeln
DESCRIPTION:
URL:https://www.grillrestaurant-am-bleicherberg.de/event/ddr-jaegerschnitzel-mit-mischgemuese-salzkartoffeln/
END:VEVENT
BEGIN:VEVENT
DTSTART;VALUE=DATE:20240124
DTEND;VALUE=DATE:20240125
DTSTAMP:20260423T031748
CREATED:20240115T211026Z
LAST-MODIFIED:20240115T211026Z
UID:4217-1706054400-1706140799@www.grillrestaurant-am-bleicherberg.de
SUMMARY:Schmorkohl mit Salzkartoffeln
DESCRIPTION:
URL:https://www.grillrestaurant-am-bleicherberg.de/event/schmorkohl-mit-salzkartoffeln/
END:VEVENT
BEGIN:VEVENT
DTSTART;VALUE=DATE:20240125
DTEND;VALUE=DATE:20240126
DTSTAMP:20260423T031748
CREATED:20240115T211048Z
LAST-MODIFIED:20240115T211048Z
UID:4219-1706140800-1706227199@www.grillrestaurant-am-bleicherberg.de
SUMMARY:Rippenbraten mit Rotkohl und Salzkartoffeln
DESCRIPTION:
URL:https://www.grillrestaurant-am-bleicherberg.de/event/rippenbraten-mit-rotkohl-und-salzkartoffeln/
END:VEVENT
BEGIN:VEVENT
DTSTART;VALUE=DATE:20240126
DTEND;VALUE=DATE:20240127
DTSTAMP:20260423T031748
CREATED:20240115T211116Z
LAST-MODIFIED:20240115T211116Z
UID:4221-1706227200-1706313599@www.grillrestaurant-am-bleicherberg.de
SUMMARY:Gemüseeintopf mit Bockwurst
DESCRIPTION:
URL:https://www.grillrestaurant-am-bleicherberg.de/event/gemueseeintopf-mit-bockwurst/
END:VEVENT
BEGIN:VEVENT
DTSTART;VALUE=DATE:20240129
DTEND;VALUE=DATE:20240130
DTSTAMP:20260423T031748
CREATED:20240115T211136Z
LAST-MODIFIED:20240115T211136Z
UID:4223-1706486400-1706572799@www.grillrestaurant-am-bleicherberg.de
SUMMARY:Bratwurst mit Sauerkraut und Püree
DESCRIPTION:
URL:https://www.grillrestaurant-am-bleicherberg.de/event/bratwurst-mit-sauerkraut-und-pueree/
END:VEVENT
BEGIN:VEVENT
DTSTART;VALUE=DATE:20240130
DTEND;VALUE=DATE:20240131
DTSTAMP:20260423T031748
CREATED:20240115T211210Z
LAST-MODIFIED:20240115T211210Z
UID:4225-1706572800-1706659199@www.grillrestaurant-am-bleicherberg.de
SUMMARY:Kohlroulade mit Salzkartoffeln
DESCRIPTION:
URL:https://www.grillrestaurant-am-bleicherberg.de/event/kohlroulade-mit-salzkartoffeln/
END:VEVENT
BEGIN:VEVENT
DTSTART;VALUE=DATE:20240131
DTEND;VALUE=DATE:20240201
DTSTAMP:20260423T031748
CREATED:20240115T211230Z
LAST-MODIFIED:20240115T211230Z
UID:4227-1706659200-1706745599@www.grillrestaurant-am-bleicherberg.de
SUMMARY:Hähnchenkeulen mit Rotkohl und Salzkartoffeln
DESCRIPTION:
URL:https://www.grillrestaurant-am-bleicherberg.de/event/haehnchenkeulen-mit-rotkohl-und-salzkartoffeln/
END:VEVENT
END:VCALENDAR