BEGIN:VCALENDAR
VERSION:2.0
PRODID:-//Grillrestaurant am Bleicherberg - ECPv6.7.0//NONSGML v1.0//EN
CALSCALE:GREGORIAN
METHOD:PUBLISH
X-WR-CALNAME:Grillrestaurant am Bleicherberg
X-ORIGINAL-URL:https://www.grillrestaurant-am-bleicherberg.de
X-WR-CALDESC:Veranstaltungen für Grillrestaurant am Bleicherberg
REFRESH-INTERVAL;VALUE=DURATION:PT1H
X-Robots-Tag:noindex
X-PUBLISHED-TTL:PT1H
BEGIN:VTIMEZONE
TZID:Europe/Berlin
BEGIN:DAYLIGHT
TZOFFSETFROM:+0100
TZOFFSETTO:+0200
TZNAME:CEST
DTSTART:20240331T010000
END:DAYLIGHT
BEGIN:STANDARD
TZOFFSETFROM:+0200
TZOFFSETTO:+0100
TZNAME:CET
DTSTART:20241027T010000
END:STANDARD
END:VTIMEZONE
BEGIN:VEVENT
DTSTART;VALUE=DATE:20240808
DTEND;VALUE=DATE:20240809
DTSTAMP:20260422T160246
CREATED:20240804T192406Z
LAST-MODIFIED:20240804T192406Z
UID:4355-1723075200-1723161599@www.grillrestaurant-am-bleicherberg.de
SUMMARY:Schnitzel mit Mischgemüse und Salzkartoffeln
DESCRIPTION:
URL:https://www.grillrestaurant-am-bleicherberg.de/event/schnitzel-mit-mischgemuese-und-salzkartoffeln/
END:VEVENT
BEGIN:VEVENT
DTSTART;VALUE=DATE:20240808
DTEND;VALUE=DATE:20240809
DTSTAMP:20260422T160246
CREATED:20240804T192435Z
LAST-MODIFIED:20240804T192435Z
UID:4357-1723075200-1723161599@www.grillrestaurant-am-bleicherberg.de
SUMMARY:Senfeier mit Salzkartoffeln
DESCRIPTION:
URL:https://www.grillrestaurant-am-bleicherberg.de/event/senfeier-mit-salzkartoffeln-3/
END:VEVENT
END:VCALENDAR