BEGIN:VCALENDAR
VERSION:2.0
PRODID:-//Grillrestaurant am Bleicherberg - ECPv6.7.0//NONSGML v1.0//EN
CALSCALE:GREGORIAN
METHOD:PUBLISH
X-ORIGINAL-URL:https://www.grillrestaurant-am-bleicherberg.de
X-WR-CALDESC:Veranstaltungen für Grillrestaurant am Bleicherberg
REFRESH-INTERVAL;VALUE=DURATION:PT1H
X-Robots-Tag:noindex
X-PUBLISHED-TTL:PT1H
BEGIN:VTIMEZONE
TZID:Europe/Berlin
BEGIN:DAYLIGHT
TZOFFSETFROM:+0100
TZOFFSETTO:+0200
TZNAME:CEST
DTSTART:20240331T010000
END:DAYLIGHT
BEGIN:STANDARD
TZOFFSETFROM:+0200
TZOFFSETTO:+0100
TZNAME:CET
DTSTART:20241027T010000
END:STANDARD
END:VTIMEZONE
BEGIN:VEVENT
DTSTART;VALUE=DATE:20240409
DTEND;VALUE=DATE:20240410
DTSTAMP:20260423T012150
CREATED:20240408T120315Z
LAST-MODIFIED:20240408T130844Z
UID:4275-1712620800-1712707199@www.grillrestaurant-am-bleicherberg.de
SUMMARY:Bratklops mit Butterbohnen und Salzkartoffeln
DESCRIPTION:
URL:https://www.grillrestaurant-am-bleicherberg.de/event/bratklops-mit-butterbohnen-und-salzkartoffeln-2/
END:VEVENT
END:VCALENDAR